BEGIN:VCALENDAR
VERSION:2.0
PRODID:-//Bay Events - ECPv6.15.20//NONSGML v1.0//EN
CALSCALE:GREGORIAN
METHOD:PUBLISH
X-ORIGINAL-URL:https://bay-events.com
X-WR-CALDESC:Veranstaltungen für Bay Events
REFRESH-INTERVAL;VALUE=DURATION:PT1H
X-Robots-Tag:noindex
X-PUBLISHED-TTL:PT1H
BEGIN:VTIMEZONE
TZID:Europe/Berlin
BEGIN:DAYLIGHT
TZOFFSETFROM:+0100
TZOFFSETTO:+0200
TZNAME:CEST
DTSTART:20240331T010000
END:DAYLIGHT
BEGIN:STANDARD
TZOFFSETFROM:+0200
TZOFFSETTO:+0100
TZNAME:CET
DTSTART:20241027T010000
END:STANDARD
BEGIN:DAYLIGHT
TZOFFSETFROM:+0100
TZOFFSETTO:+0200
TZNAME:CEST
DTSTART:20250330T010000
END:DAYLIGHT
BEGIN:STANDARD
TZOFFSETFROM:+0200
TZOFFSETTO:+0100
TZNAME:CET
DTSTART:20251026T010000
END:STANDARD
BEGIN:DAYLIGHT
TZOFFSETFROM:+0100
TZOFFSETTO:+0200
TZNAME:CEST
DTSTART:20260329T010000
END:DAYLIGHT
BEGIN:STANDARD
TZOFFSETFROM:+0200
TZOFFSETTO:+0100
TZNAME:CET
DTSTART:20261025T010000
END:STANDARD
END:VTIMEZONE
BEGIN:VEVENT
DTSTART;TZID=Europe/Berlin:20250501T170000
DTEND;TZID=Europe/Berlin:20250501T200000
DTSTAMP:20260422T013817
CREATED:20250426T210558Z
LAST-MODIFIED:20250426T210558Z
UID:168-1746118800-1746129600@bay-events.com
SUMMARY:Maifest mit musikalischer Untermalung durch The Internationals!
DESCRIPTION:Maifest mit musikalischer Untermalung durch The Internationals!
URL:https://bay-events.com/event/maifest-mit-musikalischer-untermalung-durch-the-internationals/
LOCATION:Ludwigs Biergarten\, 383 Castro St\, Mountain View\, 94041\, United States
ATTACH;FMTTYPE=image/png:https://bay-events.com/wp-content/uploads/2025/04/Screenshot-2025-04-24-083014.png
END:VEVENT
END:VCALENDAR