BEGIN:VCALENDAR
VERSION:2.0
PRODID:-//Bay Events - ECPv6.15.20//NONSGML v1.0//EN
CALSCALE:GREGORIAN
METHOD:PUBLISH
X-WR-CALNAME:Bay Events
X-ORIGINAL-URL:https://bay-events.com
X-WR-CALDESC:Veranstaltungen für Bay Events
REFRESH-INTERVAL;VALUE=DURATION:PT1H
X-Robots-Tag:noindex
X-PUBLISHED-TTL:PT1H
BEGIN:VTIMEZONE
TZID:America/Los_Angeles
BEGIN:DAYLIGHT
TZOFFSETFROM:-0800
TZOFFSETTO:-0700
TZNAME:PDT
DTSTART:20240310T100000
END:DAYLIGHT
BEGIN:STANDARD
TZOFFSETFROM:-0700
TZOFFSETTO:-0800
TZNAME:PST
DTSTART:20241103T090000
END:STANDARD
BEGIN:DAYLIGHT
TZOFFSETFROM:-0800
TZOFFSETTO:-0700
TZNAME:PDT
DTSTART:20250309T100000
END:DAYLIGHT
BEGIN:STANDARD
TZOFFSETFROM:-0700
TZOFFSETTO:-0800
TZNAME:PST
DTSTART:20251102T090000
END:STANDARD
BEGIN:DAYLIGHT
TZOFFSETFROM:-0800
TZOFFSETTO:-0700
TZNAME:PDT
DTSTART:20260308T100000
END:DAYLIGHT
BEGIN:STANDARD
TZOFFSETFROM:-0700
TZOFFSETTO:-0800
TZNAME:PST
DTSTART:20261101T090000
END:STANDARD
END:VTIMEZONE
BEGIN:VEVENT
DTSTART;TZID=America/Los_Angeles:20250608T120000
DTEND;TZID=America/Los_Angeles:20250608T170000
DTSTAMP:20260424T030011
CREATED:20250515T142907Z
LAST-MODIFIED:20250515T142907Z
UID:194-1749384000-1749402000@bay-events.com
SUMMARY:Germania Sommerfest
DESCRIPTION:Sommerfest \nJune 8th\, 2025\, from 12:00 PM to 5:00 PM \nSt. Raymond Catholic Church\, 1100 Santa Cruz Avenue\, Menlo Park\, CA 94025 \nMembers $10\nGuests/Non-members $25\nKids 12 and under free \nIncluded with Admission: Bratwurst\, potato salad\, soft drinks\, dessert\, and entertainment \nBYOB (Bring Your Own Beer) \nRSVP: By June 1 ( QR code or director2@germaniaverein.org
URL:https://bay-events.com/event/germania-sommerfest/
LOCATION:St. Raymond Catholic Church\, 1100 Santa Cruz Avenue\, Menlo Park\, 94025\, United States
END:VEVENT
END:VCALENDAR