BEGIN:VCALENDAR
VERSION:2.0
PRODID:-//Bay Events - ECPv6.15.20//NONSGML v1.0//EN
CALSCALE:GREGORIAN
METHOD:PUBLISH
X-ORIGINAL-URL:https://bay-events.com
X-WR-CALDESC:Veranstaltungen für Bay Events
REFRESH-INTERVAL;VALUE=DURATION:PT1H
X-Robots-Tag:noindex
X-PUBLISHED-TTL:PT1H
BEGIN:VTIMEZONE
TZID:America/Los_Angeles
BEGIN:DAYLIGHT
TZOFFSETFROM:-0800
TZOFFSETTO:-0700
TZNAME:PDT
DTSTART:20240310T100000
END:DAYLIGHT
BEGIN:STANDARD
TZOFFSETFROM:-0700
TZOFFSETTO:-0800
TZNAME:PST
DTSTART:20241103T090000
END:STANDARD
BEGIN:DAYLIGHT
TZOFFSETFROM:-0800
TZOFFSETTO:-0700
TZNAME:PDT
DTSTART:20250309T100000
END:DAYLIGHT
BEGIN:STANDARD
TZOFFSETFROM:-0700
TZOFFSETTO:-0800
TZNAME:PST
DTSTART:20251102T090000
END:STANDARD
BEGIN:DAYLIGHT
TZOFFSETFROM:-0800
TZOFFSETTO:-0700
TZNAME:PDT
DTSTART:20260308T100000
END:DAYLIGHT
BEGIN:STANDARD
TZOFFSETFROM:-0700
TZOFFSETTO:-0800
TZNAME:PST
DTSTART:20261101T090000
END:STANDARD
END:VTIMEZONE
BEGIN:VEVENT
DTSTART;TZID=America/Los_Angeles:20250807T183000
DTEND;TZID=America/Los_Angeles:20250807T213000
DTSTAMP:20260422T013608
CREATED:20250716T115415Z
LAST-MODIFIED:20250716T115458Z
UID:213-1754591400-1754602200@bay-events.com
SUMMARY:Frauenstammtisch
DESCRIPTION:Jeden 1. Donnerstag im Monat \nJeden ersten Donnerstag im Monat treffen sich Deutsch-sprachige (und -übende) Frauen im Ludwigs in Mountain View! \nWeitere Infos findest du hier: https://www.facebook.com/events/2709790109225723/2709790122559055/?active_tab=about 
URL:https://bay-events.com/event/frauenstammtisch/
LOCATION:Ludwigs Biergarten\, 383 Castro St\, Mountain View\, 94041\, United States
END:VEVENT
END:VCALENDAR